BEGIN:VCALENDAR
VERSION:2.0
PRODID:-//AfriWat - ECPv6.15.20//NONSGML v1.0//EN
CALSCALE:GREGORIAN
METHOD:PUBLISH
X-WR-CALNAME:AfriWat
X-ORIGINAL-URL:https://afriwat.com
X-WR-CALDESC:Events for AfriWat
REFRESH-INTERVAL;VALUE=DURATION:PT1H
X-Robots-Tag:noindex
X-PUBLISHED-TTL:PT1H
BEGIN:VTIMEZONE
TZID:America/Toronto
BEGIN:DAYLIGHT
TZOFFSETFROM:-0500
TZOFFSETTO:-0400
TZNAME:EDT
DTSTART:20240310T070000
END:DAYLIGHT
BEGIN:STANDARD
TZOFFSETFROM:-0400
TZOFFSETTO:-0500
TZNAME:EST
DTSTART:20241103T060000
END:STANDARD
BEGIN:DAYLIGHT
TZOFFSETFROM:-0500
TZOFFSETTO:-0400
TZNAME:EDT
DTSTART:20250309T070000
END:DAYLIGHT
BEGIN:STANDARD
TZOFFSETFROM:-0400
TZOFFSETTO:-0500
TZNAME:EST
DTSTART:20251102T060000
END:STANDARD
BEGIN:DAYLIGHT
TZOFFSETFROM:-0500
TZOFFSETTO:-0400
TZNAME:EDT
DTSTART:20260308T070000
END:DAYLIGHT
BEGIN:STANDARD
TZOFFSETFROM:-0400
TZOFFSETTO:-0500
TZNAME:EST
DTSTART:20261101T060000
END:STANDARD
END:VTIMEZONE
BEGIN:VEVENT
DTSTART;VALUE=DATE:20250322
DTEND;VALUE=DATE:20250323
DTSTAMP:20260423T235825
CREATED:20250204T234800Z
LAST-MODIFIED:20250204T234800Z
UID:950-1742601600-1742687999@afriwat.com
SUMMARY:LeadHerShip program with Steve Harris (Webinar - 4th Session)
DESCRIPTION:
URL:https://afriwat.com/event/leadhership-program-with-steve-harris-webinar-4th-session/
END:VEVENT
BEGIN:VEVENT
DTSTART;VALUE=DATE:20250315
DTEND;VALUE=DATE:20250316
DTSTAMP:20260423T235825
CREATED:20250204T234722Z
LAST-MODIFIED:20250204T234722Z
UID:948-1741996800-1742083199@afriwat.com
SUMMARY:Black Women Leadership Trivia Night
DESCRIPTION:
URL:https://afriwat.com/event/black-women-leadership-trivia-night/
END:VEVENT
BEGIN:VEVENT
DTSTART;VALUE=DATE:20250308
DTEND;VALUE=DATE:20250309
DTSTAMP:20260423T235825
CREATED:20250204T234638Z
LAST-MODIFIED:20250204T234638Z
UID:946-1741392000-1741478399@afriwat.com
SUMMARY:LeadHerShip program with Steve Harris (Webinar - 3rd Session)
DESCRIPTION:
URL:https://afriwat.com/event/leadhership-program-with-steve-harris-webinar-3rd-session/
END:VEVENT
BEGIN:VEVENT
DTSTART;VALUE=DATE:20250222
DTEND;VALUE=DATE:20250223
DTSTAMP:20260423T235825
CREATED:20250204T234558Z
LAST-MODIFIED:20250204T234558Z
UID:944-1740182400-1740268799@afriwat.com
SUMMARY:Virtual Stretch/ Wellness Walk
DESCRIPTION:
URL:https://afriwat.com/event/virtual-stretch-wellness-walk-2/
END:VEVENT
BEGIN:VEVENT
DTSTART;VALUE=DATE:20250215
DTEND;VALUE=DATE:20250216
DTSTAMP:20260423T235825
CREATED:20250204T234458Z
LAST-MODIFIED:20250204T234458Z
UID:942-1739577600-1739663999@afriwat.com
SUMMARY:LeadHerShip program with Steve Harris (Webinar - 2nd Session)
DESCRIPTION:
URL:https://afriwat.com/event/leadhership-program-with-steve-harris-webinar-2nd-session/
END:VEVENT
BEGIN:VEVENT
DTSTART;VALUE=DATE:20250203
DTEND;VALUE=DATE:20250215
DTSTAMP:20260423T235825
CREATED:20250204T233355Z
LAST-MODIFIED:20250204T233355Z
UID:940-1738540800-1739577599@afriwat.com
SUMMARY:Self Love Challenge
DESCRIPTION:
URL:https://afriwat.com/event/self-love-challenge/
END:VEVENT
BEGIN:VEVENT
DTSTART;VALUE=DATE:20250201
DTEND;VALUE=DATE:20250202
DTSTAMP:20260423T235825
CREATED:20250204T233223Z
LAST-MODIFIED:20250204T233223Z
UID:938-1738368000-1738454399@afriwat.com
SUMMARY:LeadHerShip program with Steve Harris (Webinar -1st Session)
DESCRIPTION:
URL:https://afriwat.com/event/leadhership-program-with-steve-harris-webinar-1st-session/
END:VEVENT
BEGIN:VEVENT
DTSTART;VALUE=DATE:20250125
DTEND;VALUE=DATE:20250126
DTSTAMP:20260423T235825
CREATED:20250204T232351Z
LAST-MODIFIED:20250204T232607Z
UID:932-1737763200-1737849599@afriwat.com
SUMMARY:Virtual Stretch/ Wellness Walk
DESCRIPTION:
URL:https://afriwat.com/event/virtual-stretch-wellness-walk/
END:VEVENT
BEGIN:VEVENT
DTSTART;VALUE=DATE:20250105
DTEND;VALUE=DATE:20250112
DTSTAMP:20260423T235825
CREATED:20250204T232535Z
LAST-MODIFIED:20250204T232805Z
UID:934-1736035200-1736639999@afriwat.com
SUMMARY:Juice Cleanse Challenge
DESCRIPTION:
URL:https://afriwat.com/event/juice-cleanse-challenge/
END:VEVENT
END:VCALENDAR